BEGIN:VCALENDAR
VERSION:2.0
PRODID:-//German Town - ECPv4.6.23//NONSGML v1.0//EN
CALSCALE:GREGORIAN
METHOD:PUBLISH
X-WR-CALNAME:German Town
X-ORIGINAL-URL:http://germantownjamaica.com
X-WR-CALDESC:Events for German Town
BEGIN:VEVENT
DTSTART;TZID=America/New_York:20170617T173000
DTEND;TZID=America/New_York:20170617T190000
DTSTAMP:20260418T073838
CREATED:20170330T175421Z
LAST-MODIFIED:20170510T015058Z
UID:669-1497720600-1497726000@germantownjamaica.com
SUMMARY:Screening - Dayton Liederkranz Turner German Club
DESCRIPTION:There will be a one time screening for the documentary. \nThere will be an opening presentation and Q&A session with the director David Ritter June 17th 2017 in Dayton Ohio at the Dayton Liederkranz Turner German Club. \nAdmission is free and food will be available for purchase. \nThis event will function as a fundraiser for the NGO Seaford Town Dreams United. \n
URL:http://germantownjamaica.com/event/screening-dayton-liederkranz-turner-german-club/
LOCATION:Dayton Liederkranz Turner German Club\, Dayton Ohio \, OH\, United States
END:VEVENT
END:VCALENDAR